BEGIN:VCALENDAR
VERSION:2.0
PRODID:-//eventon.com NONSGML v1.0//EN
CALSCALE:GREGORIAN
METHOD:PUBLISH
BEGIN:VEVENT
UID:69e9ed85da340
DTSTAMP:20260423T095933Z
DTSTART:20231109T023000Z
DTEND:20231109T033000Z
LOCATION:https://vancewealth.zoom.us/webinar/register/WN_IfaSollIRZKWNIh3ArWoRQ#/registration
SUMMARY:Advanced Perspective Webinar - Investor's Insights: Current Market Update & 50 Years of Investing Lessons
DESCRIPTION:Unlock the Secrets to Financial Success! Join us for our upcomi
 ng Advanced Perspective Webinar\,  Investor&#8217;s Insights: Current Mark
 et Update &amp; 50 Years of Investing Lessons\,  on Wednesday\,  November 
 8th at 4:30pm (PST). Discover the keys to making informed investment decisi
 ons\,  gain fresh insights into today&#8217;s market\,  and uncover the wis
 dom of half[..]\nhttps://vancewealth.com/updates/events/advanced-perspectiv
 e-webinar-investors-insights-current-market-update-50-years-of-investing-le
 ssons/
URL:https://vancewealth.com/updates/events/advanced-perspective-webinar-investors-insights-current-market-update-50-years-of-investing-lessons/
END:VEVENT
END:VCALENDAR