BEGIN:VCALENDAR
VERSION:2.0
PRODID:-//eventon.com NONSGML v1.0//EN
CALSCALE:GREGORIAN
METHOD:PUBLISH
BEGIN:VEVENT
UID:69e751888f2f1
DTSTAMP:20260421T102928Z
DTSTART:20221115T163000Z
DTEND:20221115T173000Z
LOCATION:Vance Wealth 26491 Summit Circle
SUMMARY:Advanced Perspective Webinar: Election Update
DESCRIPTION:You must register to attend! Join us for our Advanced Perspect
 ive Webinar: Post-Election Update on November 15th at 4:30 pm (PST). John
  Vance\,  President of Vance Wealth\,  will discuss the election results an
 d the impact on the market and economy. &nbsp; Click here to register\,  if
  you can not attend a recording will[..]\nhttps://vancewealth.com/updates/e
 vents/advanced-perspective-webinar-election-update/
URL:https://vancewealth.com/updates/events/advanced-perspective-webinar-election-update/
END:VEVENT
END:VCALENDAR