BEGIN:VCALENDAR
VERSION:2.0
PRODID:-//eventon.com NONSGML v1.0//EN
CALSCALE:GREGORIAN
METHOD:PUBLISH
BEGIN:VEVENT
UID:69e73f5ae12ed
DTSTAMP:20260421T091154Z
DTSTART:20220602T110000Z
DTEND:20220602T120000Z
LOCATION:Vance Wealth 26491 Summit Circle
SUMMARY:We are in a recession and WHY this is a good thing!
DESCRIPTION:You Must Register to Attend: Click Here! We are in a recession 
 and WHY this is a good thing! Given recent volatility and the impact on you
 r money\,  we hope you will join John Vance\,  President of Vance Wealth\, 
  for this timely topic as he shares his views to help[..]\nhttps://vancewea
 lth.com/updates/events/understand-the-impact-of-a-recession-on-your-money/
URL:https://vancewealth.com/updates/events/understand-the-impact-of-a-recession-on-your-money/
END:VEVENT
END:VCALENDAR