BEGIN:VCALENDAR
VERSION:2.0
PRODID:-//eventon.com NONSGML v1.0//EN
CALSCALE:GREGORIAN
METHOD:PUBLISH
BEGIN:VEVENT
UID:69eb293859b03
DTSTAMP:20260424T082632Z
DTSTART:20220505T110000Z
DTEND:20220505T120000Z
LOCATION:Vance Wealth 26491 Summit Circle
SUMMARY:Leaving A Legacy You Can Be Proud Of
DESCRIPTION:To register\,  click the link: https://raymondjames.zoom.us/&#8
 230;/WN_1sQhJimxQ36kWTuQZrPe3w Legacy planning is about more than passing o
 n wealth to the next generation. At Vance Wealth\,  it’s also about passi
 ng on the value\,  lessons\,  and mindsets that allowed you to accumulate y
 our wealth in the first place. Leaving a Legacy\,  you can be Proud[..]\nht
 tps://vancewealth.com/updates/events/legacy-planning-webinar/
URL:https://vancewealth.com/updates/events/legacy-planning-webinar/
END:VEVENT
END:VCALENDAR