BEGIN:VCALENDAR
VERSION:2.0
PRODID:-//eventon.com NONSGML v1.0//EN
CALSCALE:GREGORIAN
METHOD:PUBLISH
BEGIN:VEVENT
UID:69eb498e959bd
DTSTAMP:20260424T104430Z
DTSTART:20210921T163000Z
DTEND:20210921T180000Z
LOCATION:Vance Wealth 26491 Summit Circle
SUMMARY:Advanced Perspective Webinar
DESCRIPTION:Join us for our monthly Advanced Perspective Webinar &nbsp; &nb
 sp; The information provided is for educational and informational purposes 
 only and does not constitute advice. Vance Wealth does not provide tax or l
 egal advice. You should contact your tax advisor and/or attorney before mak
 ing any decisions with tax or legal[..]\nhttps://vancewealth.com/updates/ev
 ents/advanced-perspective-webinar-5/
URL:https://vancewealth.com/updates/events/advanced-perspective-webinar-5/
END:VEVENT
END:VCALENDAR