BEGIN:VCALENDAR
VERSION:2.0
PRODID:-//eventon.com NONSGML v1.0//EN
CALSCALE:GREGORIAN
METHOD:PUBLISH
BEGIN:VEVENT
UID:69e88dac9482e
DTSTAMP:20260422T085820Z
DTSTART:20190925T173000Z
DTEND:20190925T190000Z
LOCATION:Vance Wealth 26491 Summit Circle
SUMMARY:Secure Your Data And Protect Your Legacy Workshop
DESCRIPTION:We do so much to protect our families every day. We want them t
 o be ok — no matter what. But life is complicated\,  and there’s so mu
 ch to pass on if we want to ensure our family’s taken care of now and in 
 the future. That’s why the team at[..]\nhttps://vancewealth.com/updates/e
 vents/secure-data-protect-legacy-workshop-4/
URL:https://vancewealth.com/updates/events/secure-data-protect-legacy-workshop-4/
END:VEVENT
END:VCALENDAR