BEGIN:VCALENDAR
VERSION:2.0
PRODID:-//eventon.com NONSGML v1.0//EN
CALSCALE:GREGORIAN
METHOD:PUBLISH
BEGIN:VEVENT
UID:69ead23952295
DTSTAMP:20260424T021521Z
DTSTART:20190131T120000Z
DTEND:20190131T133000Z
LOCATION:Flintridge Center
SUMMARY:2019 Economic & Market Update
DESCRIPTION:You are invited …. 2019 Economic &amp; Market Update Thursday
 \,  January 31st 12:00 pm Flintridge Retreat Center 236 West Mountain Stree
 t &#8211; Suite 117\,  Pasadena\,  CA 91103 We will take you through a reca
 p of what we saw in the markets in 2018 and what trends we are expecting to
 [..]\nhttps://vancewealth.com/updates/events/2019-economic-market-update/
URL:https://vancewealth.com/updates/events/2019-economic-market-update/
END:VEVENT
END:VCALENDAR