BEGIN:VCALENDAR
VERSION:2.0
PRODID:-//eventon.com NONSGML v1.0//EN
CALSCALE:GREGORIAN
METHOD:PUBLISH
BEGIN:VEVENT
UID:69ec0f026366d
DTSTAMP:20260425T004658Z
DTSTART:20180912T173000Z
DTEND:20180912T190000Z
LOCATION:Vance Wealth 26491 Summit Circle
SUMMARY:Taxes in Retirement Workshop
DESCRIPTION:You are invited …. Taxes in Retirement Workshop Wednesday\,  
 September 12th \,  2018 5:30pm Santa Clarita Office 26491 Summit Circle\, 
  Santa Clarita\,  CA 91350 THE NEW TAX AND FINANCIAL RULES HAVE CHANGED. Un
 derstand the potential impact taxes have on your retirement income. &nbsp; 
 Attend this workshop and learn about: Understand the[..]\nhttps://vanceweal
 th.com/updates/events/taxes-in-retirement-workshop/
URL:https://vancewealth.com/updates/events/taxes-in-retirement-workshop/
END:VEVENT
END:VCALENDAR