BEGIN:VCALENDAR
VERSION:2.0
PRODID:-//eventon.com NONSGML v1.0//EN
CALSCALE:GREGORIAN
METHOD:PUBLISH
BEGIN:VEVENT
UID:69e88bd1f3c8c
DTSTAMP:20260422T085025Z
DTSTART:20171109T120000Z
DTEND:20171109T133000Z
LOCATION:Flintridge Center
SUMMARY:2017 Fall Education workshop (12:00pm)
DESCRIPTION:Are we on the verge of a market correction? Come learn about ho
 w the team at Vance Wealth manages risks and investment. Join us for a disc
 ussion on the current state of the financial markets. We will focus on how 
 important investment discipline is to your overall financial success. We[..
 ]\nhttps://vancewealth.com/updates/events/2017-fall-education-workshop-1200
 pm/
URL:https://vancewealth.com/updates/events/2017-fall-education-workshop-1200pm/
END:VEVENT
END:VCALENDAR